BEGIN:VCALENDAR
VERSION:2.0
PRODID:-//FERUS - ECPv6.15.20//NONSGML v1.0//EN
CALSCALE:GREGORIAN
METHOD:PUBLISH
X-WR-CALNAME:FERUS
X-ORIGINAL-URL:https://www.ferus.fr
X-WR-CALDESC:Évènements pour FERUS
REFRESH-INTERVAL;VALUE=DURATION:PT1H
X-Robots-Tag:noindex
X-PUBLISHED-TTL:PT1H
BEGIN:VTIMEZONE
TZID:Europe/Paris
BEGIN:DAYLIGHT
TZOFFSETFROM:+0100
TZOFFSETTO:+0200
TZNAME:CEST
DTSTART:20240331T010000
END:DAYLIGHT
BEGIN:STANDARD
TZOFFSETFROM:+0200
TZOFFSETTO:+0100
TZNAME:CET
DTSTART:20241027T010000
END:STANDARD
BEGIN:DAYLIGHT
TZOFFSETFROM:+0100
TZOFFSETTO:+0200
TZNAME:CEST
DTSTART:20250330T010000
END:DAYLIGHT
BEGIN:STANDARD
TZOFFSETFROM:+0200
TZOFFSETTO:+0100
TZNAME:CET
DTSTART:20251026T010000
END:STANDARD
BEGIN:DAYLIGHT
TZOFFSETFROM:+0100
TZOFFSETTO:+0200
TZNAME:CEST
DTSTART:20260329T010000
END:DAYLIGHT
BEGIN:STANDARD
TZOFFSETFROM:+0200
TZOFFSETTO:+0100
TZNAME:CET
DTSTART:20261025T010000
END:STANDARD
END:VTIMEZONE
BEGIN:VEVENT
DTSTART;VALUE=DATE:20250131
DTEND;VALUE=DATE:20250203
DTSTAMP:20260423T131413
CREATED:20241231T095401Z
LAST-MODIFIED:20241231T095401Z
UID:53390-1738281600-1738540799@www.ferus.fr
SUMMARY:Festival Natur'Armor ¤ 31 janvier — 2 février à Quévert (22)
DESCRIPTION:Retrouvez FERUS au festival Natur’Armor du vendredi 31 janvier au dimanche 2 février 2025 à Quévert (22) : \n\naccueil des scolaires le vendredi 31 janvier\nstand public samedi 1er et dimanche 2 février\nconférence FERUS sur le retour du loup en Bretagne le samedi 1er février\, à 15h30\n\nContact FERUS : Tanguy Descamps\, Réseau FERUS BZH tanguy.descamps@yahoo.fr \nNaturArmor2025_Affiche
URL:https://www.ferus.fr/evenement/festival-naturarmor-%c2%a4-31-janvier-2-fevrier-a-quevert-22
LOCATION:Quévert\, Quévert\, 22100\, France
CATEGORIES:festival
ATTACH;FMTTYPE=image/png:https://www.ferus.fr/wp-content/uploads/2024/12/NaturArmor2025_Affiche_HD.png
END:VEVENT
END:VCALENDAR